Package: cytoviewer Version: 1.9.0 Command: /Library/Frameworks/R.framework/Resources/bin/R CMD build --keep-empty-dirs --no-resave-data cytoviewer StartedAt: 2025-05-09 16:07:31 -0400 (Fri, 09 May 2025) EndedAt: 2025-05-09 16:08:03 -0400 (Fri, 09 May 2025) EllapsedTime: 32.4 seconds RetCode: 0 Status: OK PackageFile: cytoviewer_1.9.0.tar.gz PackageFileSize: 9.261 MiB