Package: cytolib Version: 2.21.0 Maintainer: Mike Jiang MaintainerEmail: mike at ozette.com git_url: https://git.bioconductor.org/packages/cytolib git_branch: devel git_last_commit: 788a8aa git_last_commit_date: 2025-04-15 11:13:26 -0400 (Tue, 15 Apr 2025)