Package: cytoMEM Version: 1.13.0 Command: /Library/Frameworks/R.framework/Resources/bin/R CMD INSTALL cytoMEM StartedAt: 2025-05-07 15:07:33 -0400 (Wed, 07 May 2025) EndedAt: 2025-05-07 15:07:37 -0400 (Wed, 07 May 2025) EllapsedTime: 4.1 seconds RetCode: 0 Status: OK