Package: cytoMEM Version: 1.13.0 Command: /Library/Frameworks/R.framework/Resources/bin/R CMD check --install=check:cytoMEM.install-out.txt --library=/Library/Frameworks/R.framework/Resources/library --no-vignettes --timings cytoMEM_1.13.0.tar.gz StartedAt: 2025-05-08 19:04:44 -0400 (Thu, 08 May 2025) EndedAt: 2025-05-08 19:05:14 -0400 (Thu, 08 May 2025) EllapsedTime: 29.4 seconds RetCode: 0 Status: OK CheckDir: cytoMEM.Rcheck Warnings: 0