Package: cytoKernel Version: 1.15.0 Command: rm -rf cytoKernel.buildbin-libdir && mkdir cytoKernel.buildbin-libdir && F:\biocbuild\bbs-3.22-bioc\R\bin\R.exe CMD INSTALL --build --library=cytoKernel.buildbin-libdir cytoKernel_1.15.0.tar.gz StartedAt: 2025-08-15 10:04:26 -0400 (Fri, 15 Aug 2025) EndedAt: 2025-08-15 10:05:38 -0400 (Fri, 15 Aug 2025) EllapsedTime: 72.1 seconds RetCode: 0 Status: OK PackageFile: cytoKernel_1.15.0.zip PackageFileSize: 1.096 MiB