Package: cytoKernel Version: 1.13.0 Command: /Library/Frameworks/R.framework/Resources/bin/R CMD INSTALL cytoKernel StartedAt: 2025-02-21 15:18:28 -0500 (Fri, 21 Feb 2025) EndedAt: 2025-02-21 15:19:11 -0500 (Fri, 21 Feb 2025) EllapsedTime: 42.6 seconds RetCode: 0 Status: OK