Package: cytoKernel Version: 1.13.0 Command: /Library/Frameworks/R.framework/Resources/bin/R CMD INSTALL cytoKernel StartedAt: 2025-02-21 15:13:52 -0500 (Fri, 21 Feb 2025) EndedAt: 2025-02-21 15:14:05 -0500 (Fri, 21 Feb 2025) EllapsedTime: 12.4 seconds RetCode: 0 Status: OK