Package: cypress Version: 1.5.0 Command: /Library/Frameworks/R.framework/Resources/bin/R CMD INSTALL cypress StartedAt: 2025-05-09 15:48:14 -0400 (Fri, 09 May 2025) EndedAt: 2025-05-09 15:48:53 -0400 (Fri, 09 May 2025) EllapsedTime: 39.1 seconds RetCode: 0 Status: OK