Package: cypress Version: 1.5.0 Command: /Library/Frameworks/R.framework/Resources/bin/R CMD check --install=check:cypress.install-out.txt --library=/Library/Frameworks/R.framework/Resources/library --no-vignettes --timings cypress_1.5.0.tar.gz StartedAt: 2025-05-09 19:01:18 -0400 (Fri, 09 May 2025) EndedAt: 2025-05-09 19:05:25 -0400 (Fri, 09 May 2025) EllapsedTime: 247.0 seconds RetCode: 0 Status: OK CheckDir: cypress.Rcheck Warnings: 0