Package: cypress Version: 1.5.0 Command: /Library/Frameworks/R.framework/Resources/bin/R CMD build --keep-empty-dirs --no-resave-data cypress StartedAt: 2025-05-09 16:06:30 -0400 (Fri, 09 May 2025) EndedAt: 2025-05-09 16:08:16 -0400 (Fri, 09 May 2025) EllapsedTime: 106.4 seconds RetCode: 0 Status: OK PackageFile: cypress_1.5.0.tar.gz PackageFileSize: 2.719 MiB