Package: cydar Version: 1.31.0 Command: E:\biocbuild\bbs-3.21-bioc\R\bin\R.exe CMD check --no-multiarch --install=check:cydar.install-out.txt --library=E:\biocbuild\bbs-3.21-bioc\R\library --no-vignettes --timings cydar_1.31.0.tar.gz StartedAt: 2025-02-16 23:58:54 -0500 (Sun, 16 Feb 2025) EndedAt: 2025-02-17 00:03:38 -0500 (Mon, 17 Feb 2025) EllapsedTime: 284.3 seconds RetCode: 0 Status: OK CheckDir: cydar.Rcheck Warnings: 0