Package: cydar Version: 1.31.0 Command: rm -rf cydar.buildbin-libdir && mkdir cydar.buildbin-libdir && E:\biocbuild\bbs-3.21-bioc\R\bin\R.exe CMD INSTALL --build --library=cydar.buildbin-libdir cydar_1.31.0.tar.gz StartedAt: 2025-02-17 07:20:06 -0500 (Mon, 17 Feb 2025) EndedAt: 2025-02-17 07:22:38 -0500 (Mon, 17 Feb 2025) EllapsedTime: 151.7 seconds RetCode: 0 Status: OK PackageFile: cydar_1.31.0.zip PackageFileSize: 1.411 MiB