Package: cycle Version: 1.65.0 Command: /home/biocbuild/bbs-3.23-bioc/R/bin/R CMD INSTALL cycle StartedAt: 2025-11-27 15:13:21 -0500 (Thu, 27 Nov 2025) EndedAt: 2025-11-27 15:13:26 -0500 (Thu, 27 Nov 2025) EllapsedTime: 5.3 seconds RetCode: 0 Status: OK