Package: cycle Version: 1.65.0 Command: /home/biocbuild/bbs-3.23-bioc/R/bin/R CMD build --keep-empty-dirs --no-resave-data cycle StartedAt: 2025-11-26 17:06:02 -0500 (Wed, 26 Nov 2025) EndedAt: 2025-11-26 17:06:27 -0500 (Wed, 26 Nov 2025) EllapsedTime: 25.0 seconds RetCode: 0 Status: OK PackageFile: cycle_1.65.0.tar.gz PackageFileSize: 248 KiB