Package: cycle Version: 1.63.0 Command: /Library/Frameworks/R.framework/Resources/bin/R CMD INSTALL cycle StartedAt: 2025-10-28 15:08:01 -0400 (Tue, 28 Oct 2025) EndedAt: 2025-10-28 15:08:03 -0400 (Tue, 28 Oct 2025) EllapsedTime: 1.9 seconds RetCode: 0 Status: OK