Package: cycle Version: 1.64.0 Command: /Library/Frameworks/R.framework/Resources/bin/R CMD build --keep-empty-dirs --no-resave-data cycle StartedAt: 2025-10-29 22:28:05 -0400 (Wed, 29 Oct 2025) EndedAt: 2025-10-29 22:28:15 -0400 (Wed, 29 Oct 2025) EllapsedTime: 10.1 seconds RetCode: 0 Status: OK PackageFile: cycle_1.64.0.tar.gz PackageFileSize: 247.9 KiB