Package: customProDB Version: 1.49.0 Command: rm -rf customProDB.buildbin-libdir && mkdir customProDB.buildbin-libdir && F:\biocbuild\bbs-3.22-bioc\R\bin\R.exe CMD INSTALL --build --library=customProDB.buildbin-libdir customProDB_1.49.0.tar.gz StartedAt: 2025-08-15 10:04:11 -0400 (Fri, 15 Aug 2025) EndedAt: 2025-08-15 10:05:17 -0400 (Fri, 15 Aug 2025) EllapsedTime: 66.7 seconds RetCode: 0 Status: OK PackageFile: customProDB_1.49.0.zip PackageFileSize: 729.6 KiB