Package: customProDB Version: 1.49.0 Command: /Library/Frameworks/R.framework/Resources/bin/R CMD INSTALL customProDB StartedAt: 2025-07-25 15:20:41 -0400 (Fri, 25 Jul 2025) EndedAt: 2025-07-25 15:20:59 -0400 (Fri, 25 Jul 2025) EllapsedTime: 18.0 seconds RetCode: 0 Status: OK