Package: customCMPdb Version: 1.19.0 Command: rm -rf customCMPdb.buildbin-libdir && mkdir customCMPdb.buildbin-libdir && F:\biocbuild\bbs-3.22-bioc\R\bin\R.exe CMD INSTALL --build --library=customCMPdb.buildbin-libdir customCMPdb_1.19.0.tar.gz StartedAt: 2025-08-15 10:04:09 -0400 (Fri, 15 Aug 2025) EndedAt: 2025-08-15 10:04:37 -0400 (Fri, 15 Aug 2025) EllapsedTime: 28.0 seconds RetCode: 0 Status: OK PackageFile: customCMPdb_1.19.0.zip PackageFileSize: 690.9 KiB