Package: customCMPdb Version: 1.17.0 Command: /home/biocbuild/bbs-3.21-bioc/R/bin/R CMD INSTALL customCMPdb StartedAt: 2025-02-03 15:34:34 -0500 (Mon, 03 Feb 2025) EndedAt: 2025-02-03 15:34:50 -0500 (Mon, 03 Feb 2025) EllapsedTime: 16.4 seconds RetCode: 0 Status: OK