Package: customCMPdb Version: 1.17.0 Command: /home/biocbuild/bbs-3.21-bioc/R/bin/R CMD check --install=check:customCMPdb.install-out.txt --library=/home/biocbuild/bbs-3.21-bioc/R/site-library --timings customCMPdb_1.17.0.tar.gz StartedAt: 2025-02-03 21:30:25 -0500 (Mon, 03 Feb 2025) EndedAt: 2025-02-03 21:34:23 -0500 (Mon, 03 Feb 2025) EllapsedTime: 237.4 seconds RetCode: 0 Status: OK CheckDir: customCMPdb.Rcheck Warnings: 0