Package: customCMPdb Version: 1.17.0 Command: /home/biocbuild/bbs-3.21-bioc/R/bin/R CMD build --keep-empty-dirs --no-resave-data customCMPdb StartedAt: 2025-02-03 17:00:05 -0500 (Mon, 03 Feb 2025) EndedAt: 2025-02-03 17:01:52 -0500 (Mon, 03 Feb 2025) EllapsedTime: 107.1 seconds RetCode: 0 Status: OK PackageFile: customCMPdb_1.17.0.tar.gz PackageFileSize: 683.6 KiB