Package: customCMPdb Version: 1.17.0 Command: /Library/Frameworks/R.framework/Resources/bin/R CMD INSTALL customCMPdb StartedAt: 2025-02-05 15:38:38 -0500 (Wed, 05 Feb 2025) EndedAt: 2025-02-05 15:39:01 -0500 (Wed, 05 Feb 2025) EllapsedTime: 23.3 seconds RetCode: 0 Status: OK