Package: customCMPdb Version: 1.17.0 Command: /Library/Frameworks/R.framework/Resources/bin/R CMD build --keep-empty-dirs --no-resave-data customCMPdb StartedAt: 2025-02-05 16:23:03 -0500 (Wed, 05 Feb 2025) EndedAt: 2025-02-05 16:25:07 -0500 (Wed, 05 Feb 2025) EllapsedTime: 123.4 seconds RetCode: 0 Status: OK PackageFile: customCMPdb_1.17.0.tar.gz PackageFileSize: 694 KiB