Package: customCMPdb Version: 1.17.0 Command: /home/biocbuild/R/R/bin/R CMD build --keep-empty-dirs --no-resave-data customCMPdb StartedAt: 2025-01-28 22:12:44 -0000 (Tue, 28 Jan 2025) EndedAt: 2025-01-28 22:15:50 -0000 (Tue, 28 Jan 2025) EllapsedTime: 186.1 seconds RetCode: 0 Status: OK PackageFile: customCMPdb_1.17.0.tar.gz PackageFileSize: 730.4 KiB