Package: customCMPdb Version: 1.17.0 Command: /Library/Frameworks/R.framework/Resources/bin/R CMD INSTALL customCMPdb StartedAt: 2025-02-10 15:26:22 -0500 (Mon, 10 Feb 2025) EndedAt: 2025-02-10 15:26:29 -0500 (Mon, 10 Feb 2025) EllapsedTime: 6.7 seconds RetCode: 0 Status: OK