Package: cummeRbund Version: 2.51.0 Command: /Library/Frameworks/R.framework/Resources/bin/R CMD INSTALL cummeRbund StartedAt: 2025-10-19 15:44:04 -0400 (Sun, 19 Oct 2025) EndedAt: 2025-10-19 15:45:29 -0400 (Sun, 19 Oct 2025) EllapsedTime: 84.6 seconds RetCode: 0 Status: OK