Package: ctsGE Version: 1.35.0 Command: chmod a+r ctsGE -R && F:\biocbuild\bbs-3.22-bioc\R\bin\R.exe CMD build --keep-empty-dirs --no-resave-data ctsGE StartedAt: 2025-08-14 19:24:24 -0400 (Thu, 14 Aug 2025) EndedAt: 2025-08-14 19:24:56 -0400 (Thu, 14 Aug 2025) EllapsedTime: 32.3 seconds RetCode: 0 Status: OK PackageFile: ctsGE_1.35.0.tar.gz PackageFileSize: 718.1 KiB