Package: ctsGE Version: 1.35.0 Command: /home/biocbuild/bbs-3.22-bioc/R/bin/R CMD INSTALL ctsGE StartedAt: 2025-10-10 15:20:53 -0400 (Fri, 10 Oct 2025) EndedAt: 2025-10-10 15:21:07 -0400 (Fri, 10 Oct 2025) EllapsedTime: 13.8 seconds RetCode: 0 Status: OK