Package: ctsGE Version: 1.33.0 Command: /Library/Frameworks/R.framework/Resources/bin/R CMD build --keep-empty-dirs --no-resave-data ctsGE StartedAt: 2025-02-03 16:36:20 -0500 (Mon, 03 Feb 2025) EndedAt: 2025-02-03 16:36:33 -0500 (Mon, 03 Feb 2025) EllapsedTime: 13.2 seconds RetCode: 0 Status: OK PackageFile: ctsGE_1.33.0.tar.gz PackageFileSize: 1.132 MiB