Package: ctsGE Version: 1.35.0 Maintainer: Michal Sharabi-Schwager MaintainerEmail: michalsharabi at gmail.com git_url: https://git.bioconductor.org/packages/ctsGE git_branch: devel git_last_commit: d64437a git_last_commit_date: 2025-04-15 11:04:00 -0400 (Tue, 15 Apr 2025)