Package: ctc Version: 1.81.0 Command: E:\biocbuild\bbs-3.21-bioc\R\bin\R.exe CMD INSTALL ctc StartedAt: 2025-02-03 15:31:04 -0500 (Mon, 03 Feb 2025) EndedAt: 2025-02-03 15:31:19 -0500 (Mon, 03 Feb 2025) EllapsedTime: 14.8 seconds RetCode: 0 Status: OK