Package: csdR Version: 1.13.3 Command: E:\biocbuild\bbs-3.21-bioc\R\bin\R.exe CMD INSTALL csdR StartedAt: 2025-02-05 16:30:53 -0500 (Wed, 05 Feb 2025) EndedAt: 2025-02-05 16:31:32 -0500 (Wed, 05 Feb 2025) EllapsedTime: 38.8 seconds RetCode: 0 Status: OK