Package: csdR Version: 1.13.3 Command: rm -rf csdR.buildbin-libdir && mkdir csdR.buildbin-libdir && E:\biocbuild\bbs-3.21-bioc\R\bin\R.exe CMD INSTALL --build --library=csdR.buildbin-libdir csdR_1.13.3.tar.gz StartedAt: 2025-02-06 07:49:28 -0500 (Thu, 06 Feb 2025) EndedAt: 2025-02-06 07:50:06 -0500 (Thu, 06 Feb 2025) EllapsedTime: 38.0 seconds RetCode: 0 Status: OK PackageFile: csdR_1.13.3.zip PackageFileSize: 1.778 MiB