Package: csdR Version: 1.13.3 Command: /home/biocbuild/bbs-3.21-bioc/R/bin/R CMD INSTALL csdR StartedAt: 2025-02-05 15:42:11 -0500 (Wed, 05 Feb 2025) EndedAt: 2025-02-05 15:42:42 -0500 (Wed, 05 Feb 2025) EllapsedTime: 30.2 seconds RetCode: 0 Status: OK