Package: csdR Version: 1.13.3 Command: /Library/Frameworks/R.framework/Resources/bin/R CMD build --keep-empty-dirs --no-resave-data csdR StartedAt: 2025-02-05 16:02:03 -0500 (Wed, 05 Feb 2025) EndedAt: 2025-02-05 16:02:25 -0500 (Wed, 05 Feb 2025) EllapsedTime: 21.2 seconds RetCode: 0 Status: OK PackageFile: csdR_1.13.3.tar.gz PackageFileSize: 1.461 MiB