Package: crupR Version: 1.3.0 Command: /home/biocbuild/bbs-3.23-bioc/R/bin/R CMD INSTALL crupR StartedAt: 2025-11-05 16:05:46 -0500 (Wed, 05 Nov 2025) EndedAt: 2025-11-05 16:06:27 -0500 (Wed, 05 Nov 2025) EllapsedTime: 40.7 seconds RetCode: 0 Status: OK