Package: crupR Version: 1.1.1 Command: /Library/Frameworks/R.framework/Resources/bin/R CMD INSTALL crupR StartedAt: 2025-10-21 15:53:07 -0400 (Tue, 21 Oct 2025) EndedAt: 2025-10-21 15:54:01 -0400 (Tue, 21 Oct 2025) EllapsedTime: 54.5 seconds RetCode: 0 Status: OK