Package: crupR Version: 1.1.1 Command: /Library/Frameworks/R.framework/Resources/bin/R CMD build --keep-empty-dirs --no-resave-data crupR StartedAt: 2025-10-21 16:42:36 -0400 (Tue, 21 Oct 2025) EndedAt: 2025-10-21 16:59:09 -0400 (Tue, 21 Oct 2025) EllapsedTime: 992.6 seconds RetCode: 0 Status: OK PackageFile: crupR_1.1.1.tar.gz PackageFileSize: 4.149 MiB