Package: crupR Version: 1.1.1 Command: rm -rf crupR.buildbin-libdir && mkdir crupR.buildbin-libdir && /Users/biocbuild/BBS/utils/build-universal.sh crupR_1.1.1.tar.gz /Library/Frameworks/R.framework/Resources/bin/R crupR.buildbin-libdir StartedAt: 2025-10-22 02:19:56 -0400 (Wed, 22 Oct 2025) EndedAt: 2025-10-22 02:20:52 -0400 (Wed, 22 Oct 2025) EllapsedTime: 56.6 seconds RetCode: 0 Status: OK PackageFile: crupR_1.1.1.tgz PackageFileSize: 4.244 MiB