Package: crupR Version: 1.1.1 Command: /Library/Frameworks/R.framework/Resources/bin/R CMD INSTALL crupR StartedAt: 2025-10-12 15:31:23 -0400 (Sun, 12 Oct 2025) EndedAt: 2025-10-12 15:31:39 -0400 (Sun, 12 Oct 2025) EllapsedTime: 16.4 seconds RetCode: 0 Status: OK