Package: crupR Version: 1.1.1 Command: rm -rf crupR.buildbin-libdir && mkdir crupR.buildbin-libdir && /Users/biocbuild/BBS/utils/build-universal.sh crupR_1.1.1.tar.gz /Library/Frameworks/R.framework/Resources/bin/R crupR.buildbin-libdir StartedAt: 2025-10-12 22:33:36 -0400 (Sun, 12 Oct 2025) EndedAt: 2025-10-12 22:33:55 -0400 (Sun, 12 Oct 2025) EllapsedTime: 18.4 seconds RetCode: 0 Status: OK PackageFile: crupR_1.1.1.tgz PackageFileSize: 4.245 MiB