Package: crupR Version: 1.3.0 Maintainer: Persia Akbari Omgba MaintainerEmail: omgba at molgen.mpg.de git_url: https://git.bioconductor.org/packages/crupR git_branch: devel git_last_commit: f02dafa git_last_commit_date: 2025-10-29 11:36:29 -0500 (Wed, 29 Oct 2025)