Package: crumblr Version: 1.1.0 Command: /home/biocbuild/bbs-3.22-bioc/R/bin/R CMD INSTALL crumblr StartedAt: 2025-10-05 15:57:03 -0400 (Sun, 05 Oct 2025) EndedAt: 2025-10-05 15:57:34 -0400 (Sun, 05 Oct 2025) EllapsedTime: 30.8 seconds RetCode: 0 Status: OK