Package: crumblr Version: 1.1.0 Command: /home/biocbuild/bbs-3.22-bioc/R/bin/R CMD build --keep-empty-dirs --no-resave-data --md5 crumblr StartedAt: 2025-10-05 17:03:42 -0400 (Sun, 05 Oct 2025) EndedAt: 2025-10-05 17:05:32 -0400 (Sun, 05 Oct 2025) EllapsedTime: 110.1 seconds RetCode: 0 Status: OK PackageFile: crumblr_1.1.0.tar.gz PackageFileSize: 1.823 MiB