Package: crumblr Version: 1.3.0 Command: /home/biocbuild/bbs-3.23-bioc/R/bin/R CMD INSTALL crumblr StartedAt: 2025-11-25 15:58:43 -0500 (Tue, 25 Nov 2025) EndedAt: 2025-11-25 15:59:15 -0500 (Tue, 25 Nov 2025) EllapsedTime: 31.7 seconds RetCode: 0 Status: OK