Package: crumblr Version: 1.3.0 Command: /home/biocbuild/bbs-3.23-bioc/R/bin/R CMD build --keep-empty-dirs --no-resave-data crumblr StartedAt: 2025-11-25 17:05:49 -0500 (Tue, 25 Nov 2025) EndedAt: 2025-11-25 17:07:44 -0500 (Tue, 25 Nov 2025) EllapsedTime: 115.1 seconds RetCode: 0 Status: OK PackageFile: crumblr_1.3.0.tar.gz PackageFileSize: 1.822 MiB