Package: crumblr Version: 1.3.0 Command: /Library/Frameworks/R.framework/Resources/bin/R CMD INSTALL crumblr StartedAt: 2025-11-26 15:53:38 -0500 (Wed, 26 Nov 2025) EndedAt: 2025-11-26 15:54:21 -0500 (Wed, 26 Nov 2025) EllapsedTime: 43.0 seconds RetCode: 0 Status: OK