Package: crumblr Version: 1.3.0 Command: /Library/Frameworks/R.framework/Resources/bin/R CMD build --keep-empty-dirs --no-resave-data crumblr StartedAt: 2025-11-26 16:37:20 -0500 (Wed, 26 Nov 2025) EndedAt: 2025-11-26 16:39:28 -0500 (Wed, 26 Nov 2025) EllapsedTime: 128.1 seconds RetCode: 0 Status: OK PackageFile: crumblr_1.3.0.tar.gz PackageFileSize: 1.83 MiB