Package: crumblr Version: 1.3.0 Command: rm -rf crumblr.buildbin-libdir && mkdir crumblr.buildbin-libdir && /Users/biocbuild/BBS/utils/build-universal.sh crumblr_1.3.0.tar.gz /Library/Frameworks/R.framework/Resources/bin/R crumblr.buildbin-libdir StartedAt: 2025-11-28 06:02:41 -0500 (Fri, 28 Nov 2025) EndedAt: 2025-11-28 06:03:27 -0500 (Fri, 28 Nov 2025) EllapsedTime: 46.1 seconds RetCode: 0 Status: OK PackageFile: crumblr_1.3.0.tgz PackageFileSize: 1.885 MiB